BEGIN:VCALENDAR
VERSION:2.0
PRODID:icalendar-ruby
CALSCALE:GREGORIAN
BEGIN:VEVENT
DTSTAMP:20210120T043429Z
UID:e6a48042-95e9-4e7b-a619-dc9f9ed31adb
DTSTART:20210202T110000Z
DTEND:20210203T110000Z
DESCRIPTION:
LOCATION:
SUMMARY:Term 1 - First Day
URL:
END:VEVENT
END:VCALENDAR
